BEGIN:VCALENDAR
VERSION:2.0
PRODID:-//Adrienne Gear - ECPv6.15.20//NONSGML v1.0//EN
CALSCALE:GREGORIAN
METHOD:PUBLISH
X-WR-CALNAME:Adrienne Gear
X-ORIGINAL-URL:https://adriennegear.com
X-WR-CALDESC:Events for Adrienne Gear
REFRESH-INTERVAL;VALUE=DURATION:PT1H
X-Robots-Tag:noindex
X-PUBLISHED-TTL:PT1H
BEGIN:VTIMEZONE
TZID:UTC
BEGIN:STANDARD
TZOFFSETFROM:+0000
TZOFFSETTO:+0000
TZNAME:UTC
DTSTART:20220101T000000
END:STANDARD
END:VTIMEZONE
BEGIN:VEVENT
DTSTART;TZID=UTC:20230208T153000
DTEND;TZID=UTC:20230208T173000
DTSTAMP:20260422T032524
CREATED:20230110T205232Z
LAST-MODIFIED:20230110T211236Z
UID:12332-1675870200-1675877400@adriennegear.com
SUMMARY:Literacy Anchors - For Primary Teachers | Session 2
DESCRIPTION:
URL:https://adriennegear.com/event/literacy-anchors-for-primary-teachers-session-2/
LOCATION:Webinar – Zoom
CATEGORIES:Primary Teachers,Webinars
ATTACH;FMTTYPE=image/png:https://adriennegear.com/wp-content/uploads/2023/01/AG-Webinar-Event-FI.png
END:VEVENT
BEGIN:VEVENT
DTSTART;TZID=UTC:20230215T153000
DTEND;TZID=UTC:20230215T173000
DTSTAMP:20260422T032524
CREATED:20230110T211657Z
LAST-MODIFIED:20230110T211801Z
UID:12344-1676475000-1676482200@adriennegear.com
SUMMARY:Novel Studies & Literature Circles - For Intermediate Teachers | Session 2
DESCRIPTION:MAKING the MOST out of the MOST AMAZING novels!\nLooking for some new ideas on how to use novels in your class? Here is the webinar for you! \nBack in the day\, Novel Studies consisted of assigning chapters to read and comprehension questions to answer. No discussions\, not a lot of prep and the best part – NO TEACHING REQUIRED! But if we want our students to get the most out of the books they read\, to engage and make meaning from text\, to move from a “re-tell” into a “re-think”\, they need US to show them how! \nIn this two part webinar series\, Adrienne will walk you through steps to set up an interactive and engaging whole class novel study NOW in preparation for Literature Circles in SPRING. She will show you how to model and integrate the key concepts of Reading Power into your novel study and introduce several ways to support rich class discussions and deep thinking. This series includes many lesson ideas\, student reproducibles\, and\, of course\, Adrienne’s recommendations of the best in middle grade novels!
URL:https://adriennegear.com/event/novel-studies-literature-circles-for-intermediate-teachers-session-2/
LOCATION:Webinar – Zoom
CATEGORIES:Intermediate Teachers,Webinars
ATTACH;FMTTYPE=image/png:https://adriennegear.com/wp-content/uploads/2023/01/AG-Intermediate-Webinar-Event-FI.png
END:VEVENT
END:VCALENDAR